BEGIN:VCALENDAR
VERSION:2.0
PRODID:-//Southern California Aquatics Federation - Water Polo - ECPv6.15.20//NONSGML v1.0//EN
CALSCALE:GREGORIAN
METHOD:PUBLISH
X-ORIGINAL-URL:https://www.scafwp.org
X-WR-CALDESC:Events for Southern California Aquatics Federation - Water Polo
REFRESH-INTERVAL;VALUE=DURATION:PT1H
X-Robots-Tag:noindex
X-PUBLISHED-TTL:PT1H
BEGIN:VTIMEZONE
TZID:America/Los_Angeles
BEGIN:DAYLIGHT
TZOFFSETFROM:-0800
TZOFFSETTO:-0700
TZNAME:PDT
DTSTART:20230312T100000
END:DAYLIGHT
BEGIN:STANDARD
TZOFFSETFROM:-0700
TZOFFSETTO:-0800
TZNAME:PST
DTSTART:20231105T090000
END:STANDARD
BEGIN:DAYLIGHT
TZOFFSETFROM:-0800
TZOFFSETTO:-0700
TZNAME:PDT
DTSTART:20240310T100000
END:DAYLIGHT
BEGIN:STANDARD
TZOFFSETFROM:-0700
TZOFFSETTO:-0800
TZNAME:PST
DTSTART:20241103T090000
END:STANDARD
BEGIN:DAYLIGHT
TZOFFSETFROM:-0800
TZOFFSETTO:-0700
TZNAME:PDT
DTSTART:20250309T100000
END:DAYLIGHT
BEGIN:STANDARD
TZOFFSETFROM:-0700
TZOFFSETTO:-0800
TZNAME:PST
DTSTART:20251102T090000
END:STANDARD
END:VTIMEZONE
BEGIN:VEVENT
DTSTART;VALUE=DATE:20241110
DTEND;VALUE=DATE:20241118
DTSTAMP:20260421T184925
CREATED:20240612T040639Z
LAST-MODIFIED:20240612T040639Z
UID:2252-1731196800-1731887999@www.scafwp.org
SUMMARY:Clinic 4
DESCRIPTION:Connect with your area president for exact date\, time and location.
URL:https://www.scafwp.org/event/clinic-4/
END:VEVENT
BEGIN:VEVENT
DTSTART;TZID=America/Los_Angeles:20241113T190000
DTEND;TZID=America/Los_Angeles:20241113T210000
DTSTAMP:20260421T184925
CREATED:20240719T210838Z
LAST-MODIFIED:20241031T224711Z
UID:2275-1731524400-1731531600@www.scafwp.org
SUMMARY:OC Girls Clinic 1
DESCRIPTION:Email sjyancey@cox.net for more information
URL:https://www.scafwp.org/event/oc-girls-clinic-1/
LOCATION:Irvine High School – Room HLG 2651\, 4321 Walnut Ave.\, Irvine\, CA\, 92604\, United States
CATEGORIES:OC Clinic
END:VEVENT
END:VCALENDAR