BEGIN:VCALENDAR
VERSION:2.0
PRODID:-//Southern California Aquatics Federation - Water Polo - ECPv6.15.20//NONSGML v1.0//EN
CALSCALE:GREGORIAN
METHOD:PUBLISH
X-ORIGINAL-URL:https://www.scafwp.org
X-WR-CALDESC:Events for Southern California Aquatics Federation - Water Polo
REFRESH-INTERVAL;VALUE=DURATION:PT1H
X-Robots-Tag:noindex
X-PUBLISHED-TTL:PT1H
BEGIN:VTIMEZONE
TZID:America/Los_Angeles
BEGIN:DAYLIGHT
TZOFFSETFROM:-0800
TZOFFSETTO:-0700
TZNAME:PDT
DTSTART:20230312T100000
END:DAYLIGHT
BEGIN:STANDARD
TZOFFSETFROM:-0700
TZOFFSETTO:-0800
TZNAME:PST
DTSTART:20231105T090000
END:STANDARD
BEGIN:DAYLIGHT
TZOFFSETFROM:-0800
TZOFFSETTO:-0700
TZNAME:PDT
DTSTART:20240310T100000
END:DAYLIGHT
BEGIN:STANDARD
TZOFFSETFROM:-0700
TZOFFSETTO:-0800
TZNAME:PST
DTSTART:20241103T090000
END:STANDARD
BEGIN:DAYLIGHT
TZOFFSETFROM:-0800
TZOFFSETTO:-0700
TZNAME:PDT
DTSTART:20250309T100000
END:DAYLIGHT
BEGIN:STANDARD
TZOFFSETFROM:-0700
TZOFFSETTO:-0800
TZNAME:PST
DTSTART:20251102T090000
END:STANDARD
END:VTIMEZONE
BEGIN:VEVENT
DTSTART;TZID=America/Los_Angeles:20240929T080000
DTEND;TZID=America/Los_Angeles:20240929T100000
DTSTAMP:20260420T173200
CREATED:20240719T213836Z
LAST-MODIFIED:20240719T214649Z
UID:2297-1727596800-1727604000@www.scafwp.org
SUMMARY:Inland Boys Clinic 3
DESCRIPTION:Email jaejessy@yahoo.com for more information
URL:https://www.scafwp.org/event/inland-boys-clinic-3/
LOCATION:Poly High School\, 5450 Victoria Ave.\, Riverside\, California\, 92506\, United States
CATEGORIES:Inland Clinic
END:VEVENT
BEGIN:VEVENT
DTSTART;TZID=America/Los_Angeles:20240930T180000
DTEND;TZID=America/Los_Angeles:20240930T200000
DTSTAMP:20260420T173200
CREATED:20240721T225453Z
LAST-MODIFIED:20240721T225453Z
UID:2322-1727719200-1727726400@www.scafwp.org
SUMMARY:Channel Boys Clinic 3
DESCRIPTION:
URL:https://www.scafwp.org/event/channel-boys-clinic-3/
LOCATION:Ventura High School\, 2 N Catalina St Rm 32\, Ventura\, California\, 93001\, United States
CATEGORIES:Channel Clinic
END:VEVENT
BEGIN:VEVENT
DTSTART;TZID=America/Los_Angeles:20240930T183000
DTEND;TZID=America/Los_Angeles:20240930T203000
DTSTAMP:20260420T173200
CREATED:20240721T230200Z
LAST-MODIFIED:20240721T230201Z
UID:2332-1727721000-1727728200@www.scafwp.org
SUMMARY:Foothill Boys Clinic 3
DESCRIPTION:
URL:https://www.scafwp.org/event/foothill-boys-clinic-3/
CATEGORIES:Foothill Clinic
END:VEVENT
END:VCALENDAR