BEGIN:VCALENDAR
VERSION:2.0
PRODID:-//Southern California Aquatics Federation - Water Polo - ECPv6.15.20//NONSGML v1.0//EN
CALSCALE:GREGORIAN
METHOD:PUBLISH
X-ORIGINAL-URL:https://www.scafwp.org
X-WR-CALDESC:Events for Southern California Aquatics Federation - Water Polo
REFRESH-INTERVAL;VALUE=DURATION:PT1H
X-Robots-Tag:noindex
X-PUBLISHED-TTL:PT1H
BEGIN:VTIMEZONE
TZID:America/Los_Angeles
BEGIN:DAYLIGHT
TZOFFSETFROM:-0800
TZOFFSETTO:-0700
TZNAME:PDT
DTSTART:20230312T100000
END:DAYLIGHT
BEGIN:STANDARD
TZOFFSETFROM:-0700
TZOFFSETTO:-0800
TZNAME:PST
DTSTART:20231105T090000
END:STANDARD
BEGIN:DAYLIGHT
TZOFFSETFROM:-0800
TZOFFSETTO:-0700
TZNAME:PDT
DTSTART:20240310T100000
END:DAYLIGHT
BEGIN:STANDARD
TZOFFSETFROM:-0700
TZOFFSETTO:-0800
TZNAME:PST
DTSTART:20241103T090000
END:STANDARD
BEGIN:DAYLIGHT
TZOFFSETFROM:-0800
TZOFFSETTO:-0700
TZNAME:PDT
DTSTART:20250309T100000
END:DAYLIGHT
BEGIN:STANDARD
TZOFFSETFROM:-0700
TZOFFSETTO:-0800
TZNAME:PST
DTSTART:20251102T090000
END:STANDARD
END:VTIMEZONE
BEGIN:VEVENT
DTSTART;TZID=America/Los_Angeles:20241118T183000
DTEND;TZID=America/Los_Angeles:20241118T203000
DTSTAMP:20260421T072257
CREATED:20240721T230242Z
LAST-MODIFIED:20241031T224748Z
UID:2331-1731954600-1731961800@www.scafwp.org
SUMMARY:Foothill Girls Clinic 1
DESCRIPTION:Room 307
URL:https://www.scafwp.org/event/foothill-girls-clinic-1/
LOCATION:Damien High School\, 2280 Damien Ave\, La Verne\, California\, 91750\, United States
CATEGORIES:Foothill Clinic
END:VEVENT
END:VCALENDAR