BEGIN:VCALENDAR
VERSION:2.0
PRODID:-//Southern California Aquatics Federation - Water Polo - ECPv6.15.20//NONSGML v1.0//EN
CALSCALE:GREGORIAN
METHOD:PUBLISH
X-ORIGINAL-URL:https://www.scafwp.org
X-WR-CALDESC:Events for Southern California Aquatics Federation - Water Polo
REFRESH-INTERVAL;VALUE=DURATION:PT1H
X-Robots-Tag:noindex
X-PUBLISHED-TTL:PT1H
BEGIN:VTIMEZONE
TZID:America/Los_Angeles
BEGIN:DAYLIGHT
TZOFFSETFROM:-0800
TZOFFSETTO:-0700
TZNAME:PDT
DTSTART:20240310T100000
END:DAYLIGHT
BEGIN:STANDARD
TZOFFSETFROM:-0700
TZOFFSETTO:-0800
TZNAME:PST
DTSTART:20241103T090000
END:STANDARD
BEGIN:DAYLIGHT
TZOFFSETFROM:-0800
TZOFFSETTO:-0700
TZNAME:PDT
DTSTART:20250309T100000
END:DAYLIGHT
BEGIN:STANDARD
TZOFFSETFROM:-0700
TZOFFSETTO:-0800
TZNAME:PST
DTSTART:20251102T090000
END:STANDARD
BEGIN:DAYLIGHT
TZOFFSETFROM:-0800
TZOFFSETTO:-0700
TZNAME:PDT
DTSTART:20260308T100000
END:DAYLIGHT
BEGIN:STANDARD
TZOFFSETFROM:-0700
TZOFFSETTO:-0800
TZNAME:PST
DTSTART:20261101T090000
END:STANDARD
END:VTIMEZONE
BEGIN:VEVENT
DTSTART;TZID=America/Los_Angeles:20250801T080000
DTEND;TZID=America/Los_Angeles:20250801T170000
DTSTAMP:20260419T134101
CREATED:20250723T041358Z
LAST-MODIFIED:20250723T041358Z
UID:2486-1754035200-1754067600@www.scafwp.org
SUMMARY:SCAF Rules Test Sent Out
DESCRIPTION:
URL:https://www.scafwp.org/event/scaf-rules-test-sent-out/
END:VEVENT
BEGIN:VEVENT
DTSTART;TZID=America/Los_Angeles:20250806T160000
DTEND;TZID=America/Los_Angeles:20250806T170000
DTSTAMP:20260419T134101
CREATED:20250723T040845Z
LAST-MODIFIED:20250723T040908Z
UID:2473-1754496000-1754499600@www.scafwp.org
SUMMARY:Channel Coast Clinic #1
DESCRIPTION:
URL:https://www.scafwp.org/event/channel-coast-clinic-1/
LOCATION:1438 Northwood Pkwy\, Thousand Oaks\, 1438 Northwood Pkwy\, Thousand Oaks
END:VEVENT
BEGIN:VEVENT
DTSTART;TZID=America/Los_Angeles:20250809T080000
DTEND;TZID=America/Los_Angeles:20250809T170000
DTSTAMP:20260419T134101
CREATED:20250723T041427Z
LAST-MODIFIED:20250723T041428Z
UID:2488-1754726400-1754758800@www.scafwp.org
SUMMARY:SCAF Rules Test Due
DESCRIPTION:
URL:https://www.scafwp.org/event/scaf-rules-test-due/
END:VEVENT
BEGIN:VEVENT
DTSTART;TZID=America/Los_Angeles:20250811T183000
DTEND;TZID=America/Los_Angeles:20250811T190000
DTSTAMP:20260419T134101
CREATED:20250723T041003Z
LAST-MODIFIED:20250723T041005Z
UID:2478-1754937000-1754938800@www.scafwp.org
SUMMARY:Channel Coast Clinic #2
DESCRIPTION:Via Zoom
URL:https://www.scafwp.org/event/channel-coast-clinic-2/
END:VEVENT
END:VCALENDAR